BEGIN:VCALENDAR
VERSION:2.0
PRODID:-//rssny.org//NONSGML kigkonsult.se iCalcreator 2.30.10//
CALSCALE:GREGORIAN
METHOD:PUBLISH
UID:226278c3-4981-4a94-a8d0-d179de304ef0
X-WR-CALDESC:
X-WR-RELCALID:c83b0678c6de73bee9ddcd5a855ba63e
X-WR-TIMEZONE:America/New_York
BEGIN:VTIMEZONE
TZID:America/New_York
BEGIN:STANDARD
TZNAME:EST
DTSTART:20231105T020000
TZOFFSETFROM:-0400
TZOFFSETTO:-0500
RDATE:20241103T020000
END:STANDARD
BEGIN:DAYLIGHT
TZNAME:EDT
DTSTART:20240310T020000
TZOFFSETFROM:-0500
TZOFFSETTO:-0400
RDATE:20250309T020000
END:DAYLIGHT
END:VTIMEZONE
BEGIN:VEVENT
UID:80d93f4e-1bae-4478-8ae7-1b48ba7c908c
DTSTAMP:20260425T014012Z
DESCRIPTION:
DTSTART;TZID=America/New_York:20240415T110000
DTEND;TZID=America/New_York:20240415T120000
LOCATION:
SUMMARY:Tap Dancing with Maria (IN CENTER)
END:VEVENT
END:VCALENDAR
