BEGIN:VCALENDAR
VERSION:2.0
PRODID:-//rssny.org//NONSGML kigkonsult.se iCalcreator 2.30.10//
CALSCALE:GREGORIAN
METHOD:PUBLISH
UID:f208bc42-ae2f-4db0-ae37-4bf904308096
X-WR-CALDESC:The Jewish Americans\nPBS Home Video Disc 1\n
X-WR-RELCALID:2b5e5356354300baba29129280cae38f
X-WR-TIMEZONE:America/New_York
BEGIN:VTIMEZONE
TZID:America/New_York
BEGIN:STANDARD
TZNAME:EST
DTSTART:20231105T020000
TZOFFSETFROM:-0400
TZOFFSETTO:-0500
RDATE:20241103T020000
END:STANDARD
BEGIN:DAYLIGHT
TZNAME:EDT
DTSTART:20240310T020000
TZOFFSETFROM:-0500
TZOFFSETTO:-0400
RDATE:20250309T020000
END:DAYLIGHT
END:VTIMEZONE
BEGIN:VEVENT
UID:78932223-4ad1-4379-8cc6-0094baddf1b6
DTSTAMP:20260425T014042Z
DESCRIPTION:The Jewish Americans\nPBS Home Video Disc 1\n
DTSTART;TZID=America/New_York:20240403T130000
DTEND;TZID=America/New_York:20240403T150000
LOCATION:
SUMMARY:Movies In Center
END:VEVENT
END:VCALENDAR
