BEGIN:VCALENDAR
VERSION:2.0
PRODID:-//rssny.org//NONSGML kigkonsult.se iCalcreator 2.30.10//
CALSCALE:GREGORIAN
METHOD:PUBLISH
UID:01ccd83d-0398-4e1f-b317-f28d86d955ef
X-WR-CALDESC:Join us for breakfast at the Center!
X-WR-RELCALID:447bbc89bf4b31e4835ab937e9b1c5ce
X-WR-TIMEZONE:America/New_York
BEGIN:VTIMEZONE
TZID:America/New_York
BEGIN:STANDARD
TZNAME:EST
DTSTART:20231105T020000
TZOFFSETFROM:-0400
TZOFFSETTO:-0500
RDATE:20241103T020000
END:STANDARD
BEGIN:DAYLIGHT
TZNAME:EDT
DTSTART:20240310T020000
TZOFFSETFROM:-0500
TZOFFSETTO:-0400
RDATE:20250309T020000
END:DAYLIGHT
END:VTIMEZONE
BEGIN:VEVENT
UID:6fa598f3-9614-496f-b7ec-22e63b32c8b6
DTSTAMP:20260425T013707Z
DESCRIPTION:Join us for breakfast at the Center!
DTSTART;TZID=America/New_York:20240403T090000
DTEND;TZID=America/New_York:20240403T100000
LOCATION:
SUMMARY:Breakfast Club (In Center)
END:VEVENT
END:VCALENDAR
