BEGIN:VCALENDAR
VERSION:2.0
PRODID:-//rssny.org//NONSGML kigkonsult.se iCalcreator 2.30.10//
CALSCALE:GREGORIAN
METHOD:PUBLISH
UID:a4eeeabc-f9ca-430a-81ad-3c9ebf85ff68
X-WR-CALDESC:
X-WR-RELCALID:4a1922b76902c1a51b50174670f6fef7
X-WR-TIMEZONE:America/New_York
BEGIN:VTIMEZONE
TZID:America/New_York
BEGIN:STANDARD
TZNAME:EST
DTSTART:20231105T020000
TZOFFSETFROM:-0400
TZOFFSETTO:-0500
RDATE:20241103T020000
END:STANDARD
BEGIN:DAYLIGHT
TZNAME:EDT
DTSTART:20240310T020000
TZOFFSETFROM:-0500
TZOFFSETTO:-0400
RDATE:20250309T020000
END:DAYLIGHT
END:VTIMEZONE
BEGIN:VEVENT
UID:03bb486c-39d1-4210-bfc3-fab44557a2a3
DTSTAMP:20260425T013936Z
DESCRIPTION:
DTSTART;TZID=America/New_York:20240402T100000
DTEND;TZID=America/New_York:20240402T110000
LOCATION:
SUMMARY:Memoir Writing with Donald
END:VEVENT
END:VCALENDAR
