BEGIN:VCALENDAR
VERSION:2.0
PRODID:-//rssny.org//NONSGML kigkonsult.se iCalcreator 2.30.10//
CALSCALE:GREGORIAN
METHOD:PUBLISH
UID:653030f0-335f-4034-9581-46a135b2c958
X-WR-CALDESC:
X-WR-RELCALID:607a98346f13c949be30de77da3fe114
X-WR-TIMEZONE:America/New_York
BEGIN:VTIMEZONE
TZID:America/New_York
BEGIN:STANDARD
TZNAME:EST
DTSTART:20231105T020000
TZOFFSETFROM:-0400
TZOFFSETTO:-0500
RDATE:20241103T020000
END:STANDARD
BEGIN:DAYLIGHT
TZNAME:EDT
DTSTART:20240310T020000
TZOFFSETFROM:-0500
TZOFFSETTO:-0400
RDATE:20250309T020000
END:DAYLIGHT
END:VTIMEZONE
BEGIN:VEVENT
UID:cac456ba-3b14-42d1-8859-39f2ee385b11
DTSTAMP:20260425T030645Z
DESCRIPTION:
DTSTART;TZID=America/New_York:20240329T000000
DTEND;TZID=America/New_York:20240329T235900
LOCATION:
SUMMARY:CLOSED - Good Friday
END:VEVENT
END:VCALENDAR
