BEGIN:VCALENDAR
VERSION:2.0
PRODID:-//rssny.org//NONSGML kigkonsult.se iCalcreator 2.30.10//
CALSCALE:GREGORIAN
METHOD:PUBLISH
UID:edd28228-5475-4974-b11e-ebd8f85e97f4
X-WR-CALDESC:
X-WR-RELCALID:39ec26e832cf01ee72b509125a367b7a
X-WR-TIMEZONE:America/New_York
BEGIN:VTIMEZONE
TZID:America/New_York
BEGIN:STANDARD
TZNAME:EST
DTSTART:20231105T020000
TZOFFSETFROM:-0400
TZOFFSETTO:-0500
RDATE:20241103T020000
END:STANDARD
BEGIN:DAYLIGHT
TZNAME:EDT
DTSTART:20240310T020000
TZOFFSETFROM:-0500
TZOFFSETTO:-0400
RDATE:20250309T020000
END:DAYLIGHT
END:VTIMEZONE
BEGIN:VEVENT
UID:7fa5f090-b38e-4df6-b395-b7c478aa7c71
DTSTAMP:20260425T032011Z
DESCRIPTION:
DTSTART;TZID=America/New_York:20240328T130000
DTEND;TZID=America/New_York:20240328T140000
LOCATION:
SUMMARY:IN PERSON: Crafting with Recyclables with Susan Guzman
END:VEVENT
END:VCALENDAR
