BEGIN:VCALENDAR
VERSION:2.0
PRODID:-//rssny.org//NONSGML kigkonsult.se iCalcreator 2.30.10//
CALSCALE:GREGORIAN
METHOD:PUBLISH
UID:b66ce917-357e-4513-b36e-b6f9ee7fb98b
X-WR-CALDESC:
X-WR-RELCALID:39de63c67b18517320946f8cfeaa14ec
X-WR-TIMEZONE:America/New_York
BEGIN:VTIMEZONE
TZID:America/New_York
BEGIN:STANDARD
TZNAME:EST
DTSTART:20231105T020000
TZOFFSETFROM:-0400
TZOFFSETTO:-0500
RDATE:20241103T020000
END:STANDARD
BEGIN:DAYLIGHT
TZNAME:EDT
DTSTART:20240310T020000
TZOFFSETFROM:-0500
TZOFFSETTO:-0400
RDATE:20250309T020000
END:DAYLIGHT
END:VTIMEZONE
BEGIN:VEVENT
UID:402ceb25-e069-4c44-a861-2279520ab64b
DTSTAMP:20260425T030828Z
DESCRIPTION:
DTSTART;TZID=America/New_York:20240328T120000
DTEND;TZID=America/New_York:20240328T130000
LOCATION:
SUMMARY:Lunch (In Center)
END:VEVENT
END:VCALENDAR
