BEGIN:VCALENDAR
VERSION:2.0
PRODID:-//rssny.org//NONSGML kigkonsult.se iCalcreator 2.30.10//
CALSCALE:GREGORIAN
METHOD:PUBLISH
UID:2720d3cb-df19-42d5-8ba8-d1c7cca2d864
X-WR-CALDESC:
X-WR-RELCALID:9e16203c1ebd4c9f81aa537bbba3962b
X-WR-TIMEZONE:America/New_York
BEGIN:VTIMEZONE
TZID:America/New_York
BEGIN:STANDARD
TZNAME:EST
DTSTART:20231105T020000
TZOFFSETFROM:-0400
TZOFFSETTO:-0500
RDATE:20241103T020000
END:STANDARD
BEGIN:DAYLIGHT
TZNAME:EDT
DTSTART:20240310T020000
TZOFFSETFROM:-0500
TZOFFSETTO:-0400
RDATE:20250309T020000
END:DAYLIGHT
END:VTIMEZONE
BEGIN:VEVENT
UID:485f63b9-ffec-4d24-ab24-d8fdab5463d4
DTSTAMP:20260425T031621Z
DESCRIPTION:
DTSTART;TZID=America/New_York:20240327T130000
DTEND;TZID=America/New_York:20240327T150000
LOCATION:
SUMMARY:Leisure Games: Mah Jongg (In Center)
END:VEVENT
END:VCALENDAR
