BEGIN:VCALENDAR
VERSION:2.0
PRODID:-//rssny.org//NONSGML kigkonsult.se iCalcreator 2.30.10//
CALSCALE:GREGORIAN
METHOD:PUBLISH
UID:9e87f204-eaf2-42b5-a26e-0ad2efc72e57
X-WR-CALDESC:
X-WR-RELCALID:9ec3df6cc5ed27b2e9c899b62e033dc9
X-WR-TIMEZONE:America/New_York
BEGIN:VTIMEZONE
TZID:America/New_York
BEGIN:STANDARD
TZNAME:EST
DTSTART:20231105T020000
TZOFFSETFROM:-0400
TZOFFSETTO:-0500
RDATE:20241103T020000
END:STANDARD
BEGIN:DAYLIGHT
TZNAME:EDT
DTSTART:20240310T020000
TZOFFSETFROM:-0500
TZOFFSETTO:-0400
RDATE:20250309T020000
END:DAYLIGHT
END:VTIMEZONE
BEGIN:VEVENT
UID:7a8deffb-69d0-473d-af2d-2b96feb2ba8e
DTSTAMP:20260425T031554Z
DESCRIPTION:
DTSTART;TZID=America/New_York:20240327T120000
DTEND;TZID=America/New_York:20240327T130000
LOCATION:
SUMMARY:BIRTHDAY PARTY Lunch (In Center)
END:VEVENT
END:VCALENDAR
