BEGIN:VCALENDAR
VERSION:2.0
PRODID:-//rssny.org//NONSGML kigkonsult.se iCalcreator 2.30.10//
CALSCALE:GREGORIAN
METHOD:PUBLISH
UID:395a28f2-aba1-4cff-b82c-2eca87b7996b
X-WR-CALDESC:Join us for breakfast at the Center!
X-WR-RELCALID:84472a906d5c38b3dd1d173ad0b97447
X-WR-TIMEZONE:America/New_York
BEGIN:VTIMEZONE
TZID:America/New_York
BEGIN:STANDARD
TZNAME:EST
DTSTART:20231105T020000
TZOFFSETFROM:-0400
TZOFFSETTO:-0500
RDATE:20241103T020000
END:STANDARD
BEGIN:DAYLIGHT
TZNAME:EDT
DTSTART:20240310T020000
TZOFFSETFROM:-0500
TZOFFSETTO:-0400
RDATE:20250309T020000
END:DAYLIGHT
END:VTIMEZONE
BEGIN:VEVENT
UID:ed790f4a-64d7-4048-8e1f-af7839ad0f63
DTSTAMP:20260425T031504Z
DESCRIPTION:Join us for breakfast at the Center!
DTSTART;TZID=America/New_York:20240327T090000
DTEND;TZID=America/New_York:20240327T100000
LOCATION:
SUMMARY:Breakfast Club (In Center)
END:VEVENT
END:VCALENDAR
