BEGIN:VCALENDAR
VERSION:2.0
PRODID:-//rssny.org//NONSGML kigkonsult.se iCalcreator 2.30.10//
CALSCALE:GREGORIAN
METHOD:PUBLISH
UID:c732dae9-8638-458b-984d-79983c1deb95
X-WR-CALDESC:REGISTER Here - https://rssny.org/class-forms/qi-gong-with-bru
 ce.html\n\n.
X-WR-RELCALID:c637c8aced97d1b8fa9d0baba2e6e428
X-WR-TIMEZONE:America/New_York
BEGIN:VTIMEZONE
TZID:America/New_York
BEGIN:STANDARD
TZNAME:EST
DTSTART:20231105T020000
TZOFFSETFROM:-0400
TZOFFSETTO:-0500
RDATE:20241103T020000
END:STANDARD
BEGIN:DAYLIGHT
TZNAME:EDT
DTSTART:20240310T020000
TZOFFSETFROM:-0500
TZOFFSETTO:-0400
RDATE:20250309T020000
END:DAYLIGHT
END:VTIMEZONE
BEGIN:VEVENT
UID:e7e330d6-14d3-45f2-9059-f153f7f22aed
DTSTAMP:20260425T031246Z
DESCRIPTION:REGISTER Here - https://rssny.org/class-forms/qi-gong-with-bruc
 e.html\n\n.
DTSTART;TZID=America/New_York:20240326T090000
DTEND;TZID=America/New_York:20240326T100000
LOCATION:https://rssny.org/class-forms/qi-gong-with-bruce.html
SUMMARY:Qi Gong with Bruce (HYBRID)
END:VEVENT
END:VCALENDAR
