BEGIN:VCALENDAR
VERSION:2.0
PRODID:-//rssny.org//NONSGML kigkonsult.se iCalcreator 2.30.10//
CALSCALE:GREGORIAN
METHOD:PUBLISH
UID:bf172ead-0fe0-4c6d-a745-f69f0f4c167e
X-WR-CALDESC:
X-WR-RELCALID:d4f013dff855d7239ec756213751bf73
X-WR-TIMEZONE:America/New_York
BEGIN:VTIMEZONE
TZID:America/New_York
BEGIN:STANDARD
TZNAME:EST
DTSTART:20231105T020000
TZOFFSETFROM:-0400
TZOFFSETTO:-0500
RDATE:20241103T020000
END:STANDARD
BEGIN:DAYLIGHT
TZNAME:EDT
DTSTART:20240310T020000
TZOFFSETFROM:-0500
TZOFFSETTO:-0400
RDATE:20250309T020000
END:DAYLIGHT
END:VTIMEZONE
BEGIN:VEVENT
UID:41678e2c-1f3f-439e-a17f-9b4d2d21fd7e
DTSTAMP:20260425T031245Z
DESCRIPTION:
DTSTART;TZID=America/New_York:20240321T130000
DTEND;TZID=America/New_York:20240321T140000
LOCATION:
SUMMARY:IN PERSON: Crafting with Recyclables with Susan Guzman
END:VEVENT
END:VCALENDAR
