BEGIN:VCALENDAR
VERSION:2.0
PRODID:-//rssny.org//NONSGML kigkonsult.se iCalcreator 2.30.10//
CALSCALE:GREGORIAN
METHOD:PUBLISH
UID:4032f052-50c3-47c6-9c43-9f6efdf8c0fa
X-WR-CALDESC:
X-WR-RELCALID:0cd9f3bd716ff233140f3514fc51f782
X-WR-TIMEZONE:America/New_York
BEGIN:VTIMEZONE
TZID:America/New_York
BEGIN:STANDARD
TZNAME:EST
DTSTART:20231105T020000
TZOFFSETFROM:-0400
TZOFFSETTO:-0500
RDATE:20241103T020000
END:STANDARD
BEGIN:DAYLIGHT
TZNAME:EDT
DTSTART:20240310T020000
TZOFFSETFROM:-0500
TZOFFSETTO:-0400
RDATE:20250309T020000
END:DAYLIGHT
END:VTIMEZONE
BEGIN:VEVENT
UID:a4b70153-6f14-40c9-81e3-e1a05f4abbff
DTSTAMP:20260425T031051Z
DESCRIPTION:
DTSTART;TZID=America/New_York:20240320T100000
DTEND;TZID=America/New_York:20240320T120000
LOCATION:
SUMMARY:Blood Pressure with Jennifer
END:VEVENT
END:VCALENDAR
