BEGIN:VCALENDAR
VERSION:2.0
PRODID:-//rssny.org//NONSGML kigkonsult.se iCalcreator 2.30.10//
CALSCALE:GREGORIAN
METHOD:PUBLISH
UID:06a15908-a8b1-4774-ab30-c08210a94647
X-WR-CALDESC:
X-WR-RELCALID:5163cabc780cf87e44b02faa0159f6e3
X-WR-TIMEZONE:America/New_York
BEGIN:VTIMEZONE
TZID:America/New_York
BEGIN:STANDARD
TZNAME:EST
DTSTART:20231105T020000
TZOFFSETFROM:-0400
TZOFFSETTO:-0500
RDATE:20241103T020000
END:STANDARD
BEGIN:DAYLIGHT
TZNAME:EDT
DTSTART:20240310T020000
TZOFFSETFROM:-0500
TZOFFSETTO:-0400
RDATE:20250309T020000
END:DAYLIGHT
END:VTIMEZONE
BEGIN:VEVENT
UID:f2979aa0-ed95-4c70-97ff-72e86c234a99
DTSTAMP:20260425T030818Z
DESCRIPTION:
DTSTART;TZID=America/New_York:20240319T100000
DTEND;TZID=America/New_York:20240319T120000
LOCATION:
SUMMARY:Bake Sale (In Center)
END:VEVENT
END:VCALENDAR
