BEGIN:VCALENDAR
VERSION:2.0
PRODID:-//rssny.org//NONSGML kigkonsult.se iCalcreator 2.30.10//
CALSCALE:GREGORIAN
METHOD:PUBLISH
UID:0bcde0ec-f25f-498b-b0a5-0c869ab712d2
X-WR-CALDESC:We do mixed media collages with a weekly theme.  All supplies 
 are provided.  We welcome any level of experience. Come create wonderful a
 rt pieces with us!
X-WR-RELCALID:68947782f62f867f047ae4f346ccd627
X-WR-TIMEZONE:America/New_York
BEGIN:VTIMEZONE
TZID:America/New_York
BEGIN:STANDARD
TZNAME:EST
DTSTART:20231105T020000
TZOFFSETFROM:-0400
TZOFFSETTO:-0500
RDATE:20241103T020000
END:STANDARD
BEGIN:DAYLIGHT
TZNAME:EDT
DTSTART:20240310T020000
TZOFFSETFROM:-0500
TZOFFSETTO:-0400
RDATE:20250309T020000
END:DAYLIGHT
END:VTIMEZONE
BEGIN:VEVENT
UID:6a772caa-615c-43d3-8518-76b09f595bad
DTSTAMP:20260425T031144Z
DESCRIPTION:We do mixed media collages with a weekly theme.  All supplies a
 re provided.  We welcome any level of experience. Come create wonderful ar
 t pieces with us!
DTSTART;TZID=America/New_York:20240319T130000
DTEND;TZID=America/New_York:20240319T150000
LOCATION:
SUMMARY:Collage with Annelen (In-Person)
END:VEVENT
END:VCALENDAR
