BEGIN:VCALENDAR
VERSION:2.0
PRODID:-//rssny.org//NONSGML kigkonsult.se iCalcreator 2.30.10//
CALSCALE:GREGORIAN
METHOD:PUBLISH
UID:e9d2fe4d-28c1-4f07-a8e3-d5fded1c8e6c
X-WR-CALDESC:
X-WR-RELCALID:c3cffa889a80b762fae32981708c36e1
X-WR-TIMEZONE:America/New_York
BEGIN:VTIMEZONE
TZID:America/New_York
BEGIN:STANDARD
TZNAME:EST
DTSTART:20231105T020000
TZOFFSETFROM:-0400
TZOFFSETTO:-0500
RDATE:20241103T020000
END:STANDARD
BEGIN:DAYLIGHT
TZNAME:EDT
DTSTART:20240310T020000
TZOFFSETFROM:-0500
TZOFFSETTO:-0400
RDATE:20250309T020000
END:DAYLIGHT
END:VTIMEZONE
BEGIN:VEVENT
UID:6c5a3ba6-59aa-431f-b2c0-3f1da970a830
DTSTAMP:20260425T030818Z
DESCRIPTION:
DTSTART;TZID=America/New_York:20240319T120000
DTEND;TZID=America/New_York:20240319T130000
LOCATION:
SUMMARY:Lunch (In Center)
END:VEVENT
END:VCALENDAR
