BEGIN:VCALENDAR
VERSION:2.0
PRODID:-//rssny.org//NONSGML kigkonsult.se iCalcreator 2.30.10//
CALSCALE:GREGORIAN
METHOD:PUBLISH
UID:e807fc17-561c-4328-b2fc-b6a81099c5af
X-WR-CALDESC:Learn a variety of art techniques\, including painting and col
 oring as well as a wide range of craft projects ranging from “ memory boxe
 s” to holiday card making. What makes her class unique is the supportive\,
  non-judgmental environment that welcomes beginners and challenges experts
 .
X-WR-RELCALID:6d7cfd02c12b5ef229eec849a02ff7b0
X-WR-TIMEZONE:America/New_York
BEGIN:VTIMEZONE
TZID:America/New_York
BEGIN:STANDARD
TZNAME:EST
DTSTART:20231105T020000
TZOFFSETFROM:-0400
TZOFFSETTO:-0500
RDATE:20241103T020000
END:STANDARD
BEGIN:DAYLIGHT
TZNAME:EDT
DTSTART:20240310T020000
TZOFFSETFROM:-0500
TZOFFSETTO:-0400
RDATE:20250309T020000
END:DAYLIGHT
END:VTIMEZONE
BEGIN:VEVENT
UID:fdbac576-4681-4509-aafc-5244034274fe
DTSTAMP:20260425T031148Z
DESCRIPTION:Learn a variety of art techniques\, including painting and colo
 ring as well as a wide range of craft projects ranging from “ memory boxes
 ” to holiday card making. What makes her class unique is the supportive\, 
 non-judgmental environment that welcomes beginners and challenges experts.
DTSTART;TZID=America/New_York:20240318T110000
DTEND;TZID=America/New_York:20240318T120000
LOCATION:
SUMMARY:Art with Linda - In Center
END:VEVENT
END:VCALENDAR
