BEGIN:VCALENDAR
VERSION:2.0
PRODID:-//rssny.org//NONSGML kigkonsult.se iCalcreator 2.30.10//
CALSCALE:GREGORIAN
METHOD:PUBLISH
UID:9c0ddc06-4e3b-491a-a3ab-299a920ae583
X-WR-CALDESC:
X-WR-RELCALID:6b372a6a9b910b988390389cbed13cab
X-WR-TIMEZONE:America/New_York
BEGIN:VTIMEZONE
TZID:America/New_York
BEGIN:STANDARD
TZNAME:EST
DTSTART:20231105T020000
TZOFFSETFROM:-0400
TZOFFSETTO:-0500
RDATE:20241103T020000
END:STANDARD
BEGIN:DAYLIGHT
TZNAME:EDT
DTSTART:20240310T020000
TZOFFSETFROM:-0500
TZOFFSETTO:-0400
RDATE:20250309T020000
END:DAYLIGHT
END:VTIMEZONE
BEGIN:VEVENT
UID:48768269-fa50-41b2-bada-75ae693d5c2f
DTSTAMP:20260425T032012Z
DESCRIPTION:
DTSTART;TZID=America/New_York:20240314T130000
DTEND;TZID=America/New_York:20240314T140000
LOCATION:
SUMMARY:IN PERSON: Crafting with Recyclables with Susan Guzman
END:VEVENT
END:VCALENDAR
