BEGIN:VCALENDAR
VERSION:2.0
PRODID:-//rssny.org//NONSGML kigkonsult.se iCalcreator 2.30.10//
CALSCALE:GREGORIAN
METHOD:PUBLISH
UID:9b521d07-d245-429b-8c76-25a23423e699
X-WR-CALDESC:
X-WR-RELCALID:c433ffeb224f0d7d1765348bd28f25a5
X-WR-TIMEZONE:America/New_York
BEGIN:VTIMEZONE
TZID:America/New_York
BEGIN:STANDARD
TZNAME:EST
DTSTART:20231105T020000
TZOFFSETFROM:-0400
TZOFFSETTO:-0500
RDATE:20241103T020000
END:STANDARD
BEGIN:DAYLIGHT
TZNAME:EDT
DTSTART:20240310T020000
TZOFFSETFROM:-0500
TZOFFSETTO:-0400
RDATE:20250309T020000
END:DAYLIGHT
END:VTIMEZONE
BEGIN:VEVENT
UID:a5a483a2-540c-4996-9092-8548b4b97fff
DTSTAMP:20260425T032138Z
DESCRIPTION:
DTSTART;TZID=America/New_York:20240314T094500
DTEND;TZID=America/New_York:20240314T104500
LOCATION:
SUMMARY:Chair Yoga with Anita (HYBRID)
END:VEVENT
END:VCALENDAR
