BEGIN:VCALENDAR
VERSION:2.0
PRODID:-//rssny.org//NONSGML kigkonsult.se iCalcreator 2.30.10//
CALSCALE:GREGORIAN
METHOD:PUBLISH
UID:d8c69c4c-f132-4b39-8835-745f21380888
X-WR-CALDESC:
X-WR-RELCALID:f3a0259652542b8f8ae4406310da3c87
X-WR-TIMEZONE:America/New_York
BEGIN:VTIMEZONE
TZID:America/New_York
BEGIN:STANDARD
TZNAME:EST
DTSTART:20231105T020000
TZOFFSETFROM:-0400
TZOFFSETTO:-0500
RDATE:20241103T020000
END:STANDARD
BEGIN:DAYLIGHT
TZNAME:EDT
DTSTART:20240310T020000
TZOFFSETFROM:-0500
TZOFFSETTO:-0400
RDATE:20250309T020000
END:DAYLIGHT
END:VTIMEZONE
BEGIN:VEVENT
UID:e3046457-6227-46b2-a020-56d690c0c25a
DTSTAMP:20260425T031554Z
DESCRIPTION:
DTSTART;TZID=America/New_York:20240313T130000
DTEND;TZID=America/New_York:20240313T150000
LOCATION:
SUMMARY:Leisure Games: Mah Jongg (In Center)
END:VEVENT
END:VCALENDAR
