BEGIN:VCALENDAR
VERSION:2.0
PRODID:-//rssny.org//NONSGML kigkonsult.se iCalcreator 2.30.10//
CALSCALE:GREGORIAN
METHOD:PUBLISH
UID:04698f5b-d1f2-47a0-b0d4-65ef64d601c2
X-WR-CALDESC:Join us for breakfast at the Center!
X-WR-RELCALID:41e0a90f594d73f699e25396b750f943
X-WR-TIMEZONE:America/New_York
BEGIN:VTIMEZONE
TZID:America/New_York
BEGIN:STANDARD
TZNAME:EST
DTSTART:20231105T020000
TZOFFSETFROM:-0400
TZOFFSETTO:-0500
RDATE:20241103T020000
END:STANDARD
BEGIN:DAYLIGHT
TZNAME:EDT
DTSTART:20240310T020000
TZOFFSETFROM:-0500
TZOFFSETTO:-0400
RDATE:20250309T020000
END:DAYLIGHT
END:VTIMEZONE
BEGIN:VEVENT
UID:98bce4a5-3a04-4298-bf13-6682ec8e2e19
DTSTAMP:20260425T031052Z
DESCRIPTION:Join us for breakfast at the Center!
DTSTART;TZID=America/New_York:20240313T090000
DTEND;TZID=America/New_York:20240313T100000
LOCATION:
SUMMARY:Breakfast Club (In Center)
END:VEVENT
END:VCALENDAR
