BEGIN:VCALENDAR
VERSION:2.0
PRODID:-//rssny.org//NONSGML kigkonsult.se iCalcreator 2.30.10//
CALSCALE:GREGORIAN
METHOD:PUBLISH
UID:5f3aea5f-940c-4227-b3b7-ed9721367515
X-WR-CALDESC:This class is online.\nLevel: Beginner\n\n\nThe session is led
  by Tabitha Rosa\, the RSS Tech Specialist and Virtual Programs Coordinato
 r.
X-WR-RELCALID:8061685fce59b6d52974ada3ee251fd4
X-WR-TIMEZONE:America/New_York
BEGIN:VTIMEZONE
TZID:America/New_York
BEGIN:STANDARD
TZNAME:EST
DTSTART:20231105T020000
TZOFFSETFROM:-0400
TZOFFSETTO:-0500
RDATE:20241103T020000
END:STANDARD
BEGIN:DAYLIGHT
TZNAME:EDT
DTSTART:20230312T020000
TZOFFSETFROM:-0500
TZOFFSETTO:-0400
RDATE:20240310T020000
RDATE:20250309T020000
END:DAYLIGHT
END:VTIMEZONE
BEGIN:VEVENT
UID:9974a00c-34c1-47c7-9210-45da071f15cf
DTSTAMP:20260425T030949Z
DESCRIPTION:This class is online.\nLevel: Beginner\n\n\nThe session is led 
 by Tabitha Rosa\, the RSS Tech Specialist and Virtual Programs Coordinator
 .
DTSTART;TZID=America/New_York:20240307T110000
DTEND;TZID=America/New_York:20240307T120000
LOCATION:
SUMMARY:CANCELLED Tech How-To's:  (ONLINE)
END:VEVENT
END:VCALENDAR
