BEGIN:VCALENDAR
VERSION:2.0
PRODID:-//rssny.org//NONSGML kigkonsult.se iCalcreator 2.30.10//
CALSCALE:GREGORIAN
METHOD:PUBLISH
UID:43dc6a1e-86d4-4dc2-b894-44ec18e08493
X-WR-CALDESC:Coloring books have to been shown to be a great form of relaxa
 tion and they also bring us back to a simpler time in our lives! Coloring 
 is also a great brain exercise because it utilizes both hemispheres of the
  brain\, right and left. \n\nEnjoy!
X-WR-RELCALID:d0e1fc48c8a8cb63c31b4a94e9e36717
X-WR-TIMEZONE:America/New_York
BEGIN:VTIMEZONE
TZID:America/New_York
BEGIN:STANDARD
TZNAME:EST
DTSTART:20231105T020000
TZOFFSETFROM:-0400
TZOFFSETTO:-0500
RDATE:20241103T020000
END:STANDARD
BEGIN:DAYLIGHT
TZNAME:EDT
DTSTART:20230312T020000
TZOFFSETFROM:-0500
TZOFFSETTO:-0400
RDATE:20240310T020000
RDATE:20250309T020000
END:DAYLIGHT
END:VTIMEZONE
BEGIN:VEVENT
UID:2ff8182d-47d3-4cf1-bc2d-520f7f060257
DTSTAMP:20260425T031246Z
DESCRIPTION:Coloring books have to been shown to be a great form of relaxat
 ion and they also bring us back to a simpler time in our lives! Coloring i
 s also a great brain exercise because it utilizes both hemispheres of the 
 brain\, right and left. \n\nEnjoy!
DTSTART;TZID=America/New_York:20240305T130000
DTEND;TZID=America/New_York:20240305T140000
LOCATION:In Center
SUMMARY:On-Site: Coloring Books for Relaxation (IN CENTER)
END:VEVENT
END:VCALENDAR
