BEGIN:VCALENDAR
VERSION:2.0
PRODID:-//rssny.org//NONSGML kigkonsult.se iCalcreator 2.30.10//
CALSCALE:GREGORIAN
METHOD:PUBLISH
UID:e79251d3-fc4e-4e41-8f96-d2025fb66e6a
X-WR-CALDESC:This class is in the center.\nLevel: Beginner\n\n\nThe session
  is led by Tabitha Rosa\, the RSS Tech Specialist and Virtual Programs Coo
 rdinator.
X-WR-RELCALID:1b6f96908323d962c6d2738b50a75389
X-WR-TIMEZONE:America/New_York
BEGIN:VTIMEZONE
TZID:America/New_York
BEGIN:STANDARD
TZNAME:EST
DTSTART:20231105T020000
TZOFFSETFROM:-0400
TZOFFSETTO:-0500
RDATE:20241103T020000
END:STANDARD
BEGIN:DAYLIGHT
TZNAME:EDT
DTSTART:20230312T020000
TZOFFSETFROM:-0500
TZOFFSETTO:-0400
RDATE:20240310T020000
RDATE:20250309T020000
END:DAYLIGHT
END:VTIMEZONE
BEGIN:VEVENT
UID:7658cd23-0c1e-4323-b8e3-32a02c1152ca
DTSTAMP:20260425T031346Z
DESCRIPTION:This class is in the center.\nLevel: Beginner\n\n\nThe session 
 is led by Tabitha Rosa\, the RSS Tech Specialist and Virtual Programs Coor
 dinator.
DTSTART;TZID=America/New_York:20240305T110000
DTEND;TZID=America/New_York:20240305T120000
LOCATION:
SUMMARY:CANCELLED Tech How-To's: (IN CENTER)
END:VEVENT
END:VCALENDAR
