BEGIN:VCALENDAR
VERSION:2.0
PRODID:-//rssny.org//NONSGML kigkonsult.se iCalcreator 2.30.10//
CALSCALE:GREGORIAN
METHOD:PUBLISH
UID:576a2aea-22f1-4c95-a00e-ff52954c1f47
X-WR-CALDESC:
X-WR-RELCALID:6ed70895eda7e330903148245d3bf138
X-WR-TIMEZONE:America/New_York
BEGIN:VTIMEZONE
TZID:America/New_York
BEGIN:STANDARD
TZNAME:EST
DTSTART:20231105T020000
TZOFFSETFROM:-0400
TZOFFSETTO:-0500
RDATE:20241103T020000
END:STANDARD
BEGIN:DAYLIGHT
TZNAME:EDT
DTSTART:20230312T020000
TZOFFSETFROM:-0500
TZOFFSETTO:-0400
RDATE:20240310T020000
RDATE:20250309T020000
END:DAYLIGHT
END:VTIMEZONE
BEGIN:VEVENT
UID:886b0017-84d7-4487-bf05-a280374672e2
DTSTAMP:20260425T031026Z
DESCRIPTION:
DTSTART;TZID=America/New_York:20240305T100000
DTEND;TZID=America/New_York:20240305T110000
LOCATION:
SUMMARY:Memoir Writing with Donald
END:VEVENT
END:VCALENDAR
