BEGIN:VCALENDAR
VERSION:2.0
PRODID:-//rssny.org//NONSGML kigkonsult.se iCalcreator 2.30.10//
CALSCALE:GREGORIAN
METHOD:PUBLISH
UID:0cdf04ad-4bff-41a9-be82-64af45712be8
X-WR-CALDESC:Wednesday 1 PM Chinese\n\nhttps://us02web.zoom.us/j/8290688163
 2\n\nOr you can dial in by phone:\n\n1-646-558-8656  (New York)\n\nThe mee
 ting ID is: 829 0688 1632
X-WR-RELCALID:8fb95db187614c4d73326b96478516af
X-WR-TIMEZONE:America/New_York
BEGIN:VTIMEZONE
TZID:America/New_York
BEGIN:STANDARD
TZNAME:EST
DTSTART:20231105T020000
TZOFFSETFROM:-0400
TZOFFSETTO:-0500
RDATE:20241103T020000
END:STANDARD
BEGIN:DAYLIGHT
TZNAME:EDT
DTSTART:20230312T020000
TZOFFSETFROM:-0500
TZOFFSETTO:-0400
RDATE:20240310T020000
RDATE:20250309T020000
END:DAYLIGHT
END:VTIMEZONE
BEGIN:VEVENT
UID:2ceaed9d-3a8b-4a16-bad0-13f3a2d33e8c
DTSTAMP:20260425T125348Z
DESCRIPTION:Wednesday 1 PM Chinese\n\nhttps://us02web.zoom.us/j/82906881632
 \n\nOr you can dial in by phone:\n\n1-646-558-8656  (New York)\n\nThe meet
 ing ID is: 829 0688 1632
DTSTART;TZID=America/New_York:20231122T130000
DTEND;TZID=America/New_York:20231122T140000
LOCATION:
SUMMARY:CONCERTS IN MOTION: CHINESE (ONLINE)
END:VEVENT
END:VCALENDAR
