BEGIN:VCALENDAR
VERSION:2.0
PRODID:-//rssny.org//NONSGML kigkonsult.se iCalcreator 2.30.10//
CALSCALE:GREGORIAN
METHOD:PUBLISH
UID:4c0eb800-5c38-446d-8b12-a311466e9b3f
X-WR-CALDESC:
X-WR-RELCALID:156feefd19f7e41e038769dd60fa03ff
X-WR-TIMEZONE:America/New_York
BEGIN:VTIMEZONE
TZID:America/New_York
BEGIN:STANDARD
TZNAME:EST
DTSTART:20231105T020000
TZOFFSETFROM:-0400
TZOFFSETTO:-0500
RDATE:20241103T020000
END:STANDARD
BEGIN:DAYLIGHT
TZNAME:EDT
DTSTART:20230312T020000
TZOFFSETFROM:-0500
TZOFFSETTO:-0400
RDATE:20240310T020000
RDATE:20250309T020000
END:DAYLIGHT
END:VTIMEZONE
BEGIN:VEVENT
UID:15c2cddf-4fd3-4a77-8ac2-bdf67effbaef
DTSTAMP:20260425T130510Z
DESCRIPTION:
DTSTART;TZID=America/New_York:20231122T100000
DTEND;TZID=America/New_York:20231122T120000
LOCATION:
SUMMARY:Blood Pressure Screenings with our Nurse\, Jennifer (In Center
END:VEVENT
END:VCALENDAR
