BEGIN:VCALENDAR
VERSION:2.0
PRODID:-//rssny.org//NONSGML kigkonsult.se iCalcreator 2.30.10//
CALSCALE:GREGORIAN
METHOD:PUBLISH
UID:fab44916-ee1c-495c-9f83-c75917c86917
X-WR-CALDESC:Join us for breakfast at the Center!
X-WR-RELCALID:53610348ed0e71162b72e9b30f487699
X-WR-TIMEZONE:America/New_York
BEGIN:VTIMEZONE
TZID:America/New_York
BEGIN:STANDARD
TZNAME:EST
DTSTART:20231105T020000
TZOFFSETFROM:-0400
TZOFFSETTO:-0500
RDATE:20241103T020000
END:STANDARD
BEGIN:DAYLIGHT
TZNAME:EDT
DTSTART:20230312T020000
TZOFFSETFROM:-0500
TZOFFSETTO:-0400
RDATE:20240310T020000
RDATE:20250309T020000
END:DAYLIGHT
END:VTIMEZONE
BEGIN:VEVENT
UID:daad855a-43c4-458f-8eb4-50691a909bcd
DTSTAMP:20260425T130159Z
DESCRIPTION:Join us for breakfast at the Center!
DTSTART;TZID=America/New_York:20231122T090000
DTEND;TZID=America/New_York:20231122T100000
LOCATION:
SUMMARY:Breakfast Club (In Center)
END:VEVENT
END:VCALENDAR
