BEGIN:VCALENDAR
VERSION:2.0
PRODID:-//rssny.org//NONSGML kigkonsult.se iCalcreator 2.30.10//
CALSCALE:GREGORIAN
METHOD:PUBLISH
UID:cac4348d-c6e6-48b1-8f8a-712148530df4
X-WR-CALDESC:
X-WR-RELCALID:738e1ea00e429ed8beef7fd00fb27462
X-WR-TIMEZONE:America/New_York
BEGIN:VTIMEZONE
TZID:America/New_York
BEGIN:STANDARD
TZNAME:EST
DTSTART:20231105T020000
TZOFFSETFROM:-0400
TZOFFSETTO:-0500
RDATE:20241103T020000
END:STANDARD
BEGIN:DAYLIGHT
TZNAME:EDT
DTSTART:20230312T020000
TZOFFSETFROM:-0500
TZOFFSETTO:-0400
RDATE:20240310T020000
RDATE:20250309T020000
END:DAYLIGHT
END:VTIMEZONE
BEGIN:VEVENT
UID:502e4275-4cfb-489d-adcc-b460302ba44e
DTSTAMP:20260425T124335Z
DESCRIPTION:
DTSTART;TZID=America/New_York:20231121T090000
DTEND;TZID=America/New_York:20231121T120000
LOCATION:
SUMMARY:BAKE SALE (IN CENTER)
END:VEVENT
END:VCALENDAR
