BEGIN:VCALENDAR
VERSION:2.0
PRODID:-//rssny.org//NONSGML kigkonsult.se iCalcreator 2.30.10//
CALSCALE:GREGORIAN
METHOD:PUBLISH
UID:877a9915-87f6-405c-88c0-cb0521fc7a79
X-WR-CALDESC:
X-WR-RELCALID:1efd88c1a57e0e76e0be2693214a875a
X-WR-TIMEZONE:America/New_York
BEGIN:VTIMEZONE
TZID:America/New_York
BEGIN:STANDARD
TZNAME:EST
DTSTART:20231105T020000
TZOFFSETFROM:-0400
TZOFFSETTO:-0500
RDATE:20241103T020000
END:STANDARD
BEGIN:DAYLIGHT
TZNAME:EDT
DTSTART:20230312T020000
TZOFFSETFROM:-0500
TZOFFSETTO:-0400
RDATE:20240310T020000
RDATE:20250309T020000
END:DAYLIGHT
END:VTIMEZONE
BEGIN:VEVENT
UID:7d8fdac6-3062-46cb-8199-637af6b0b038
DTSTAMP:20260425T124336Z
DESCRIPTION:
DTSTART;TZID=America/New_York:20231120T110000
DTEND;TZID=America/New_York:20231120T120000
LOCATION:
SUMMARY:Understanding Elder Abuse (HYBRID)
END:VEVENT
END:VCALENDAR
