BEGIN:VCALENDAR
VERSION:2.0
PRODID:-//rssny.org//NONSGML kigkonsult.se iCalcreator 2.30.10//
CALSCALE:GREGORIAN
METHOD:PUBLISH
UID:3fa9005d-0c5b-4b9d-a0c3-2de070f7cb31
X-WR-CALDESC:
X-WR-RELCALID:d8c9b3add9d3d854215939569efceafe
X-WR-TIMEZONE:America/New_York
BEGIN:VTIMEZONE
TZID:America/New_York
BEGIN:STANDARD
TZNAME:EST
DTSTART:20231105T020000
TZOFFSETFROM:-0400
TZOFFSETTO:-0500
RDATE:20241103T020000
END:STANDARD
BEGIN:DAYLIGHT
TZNAME:EDT
DTSTART:20230312T020000
TZOFFSETFROM:-0500
TZOFFSETTO:-0400
RDATE:20240310T020000
RDATE:20250309T020000
END:DAYLIGHT
END:VTIMEZONE
BEGIN:VEVENT
UID:a2dbbbfe-ee61-4cfd-a709-4ce7771b1673
DTSTAMP:20260425T130129Z
DESCRIPTION:
DTSTART;TZID=America/New_York:20231116T120000
DTEND;TZID=America/New_York:20231116T130000
LOCATION:
SUMMARY:THANKSGIVING Lunch (In Center)
END:VEVENT
END:VCALENDAR
