BEGIN:VCALENDAR
VERSION:2.0
PRODID:-//rssny.org//NONSGML kigkonsult.se iCalcreator 2.30.10//
CALSCALE:GREGORIAN
METHOD:PUBLISH
UID:549463da-8c4f-41fd-9458-23e20a875002
X-WR-CALDESC:
X-WR-RELCALID:7a567ec796349148f90a0a1b0df71a47
X-WR-TIMEZONE:America/New_York
BEGIN:VTIMEZONE
TZID:America/New_York
BEGIN:STANDARD
TZNAME:EST
DTSTART:20231105T020000
TZOFFSETFROM:-0400
TZOFFSETTO:-0500
RDATE:20241103T020000
END:STANDARD
BEGIN:DAYLIGHT
TZNAME:EDT
DTSTART:20230312T020000
TZOFFSETFROM:-0500
TZOFFSETTO:-0400
RDATE:20240310T020000
RDATE:20250309T020000
END:DAYLIGHT
END:VTIMEZONE
BEGIN:VEVENT
UID:af9be1b1-c152-4d15-ae9b-c919aa508828
DTSTAMP:20260425T130504Z
DESCRIPTION:
DTSTART;TZID=America/New_York:20231115T100000
DTEND;TZID=America/New_York:20231115T120000
LOCATION:
SUMMARY:Blood Pressure Screenings with our Nurse\, Jennifer (In Center
END:VEVENT
END:VCALENDAR
