BEGIN:VCALENDAR
VERSION:2.0
PRODID:-//rssny.org//NONSGML kigkonsult.se iCalcreator 2.30.10//
CALSCALE:GREGORIAN
METHOD:PUBLISH
UID:5c207beb-aee0-44e2-bca1-5ebb08340c3e
X-WR-CALDESC:
X-WR-RELCALID:08359c95e5e6a6031d9c8ef214932aae
X-WR-TIMEZONE:America/New_York
BEGIN:VTIMEZONE
TZID:America/New_York
BEGIN:STANDARD
TZNAME:EST
DTSTART:20231105T020000
TZOFFSETFROM:-0400
TZOFFSETTO:-0500
RDATE:20241103T020000
END:STANDARD
BEGIN:DAYLIGHT
TZNAME:EDT
DTSTART:20230312T020000
TZOFFSETFROM:-0500
TZOFFSETTO:-0400
RDATE:20240310T020000
RDATE:20250309T020000
END:DAYLIGHT
END:VTIMEZONE
BEGIN:VEVENT
UID:322be5f4-6cda-4d40-b91f-54a4ff52c8d3
DTSTAMP:20260425T125147Z
DESCRIPTION:
DTSTART;TZID=America/New_York:20231113T130000
DTEND;TZID=America/New_York:20231113T140000
LOCATION:
SUMMARY:Current Events with Tim (In Center)
END:VEVENT
END:VCALENDAR
