BEGIN:VCALENDAR
VERSION:2.0
PRODID:-//rssny.org//NONSGML kigkonsult.se iCalcreator 2.30.10//
CALSCALE:GREGORIAN
METHOD:PUBLISH
UID:2ab7d85d-11b2-42b3-9882-b7c2079a9ce3
X-WR-CALDESC:
X-WR-RELCALID:322d2fcf428551ed526607229ad7e3e9
X-WR-TIMEZONE:America/New_York
BEGIN:VTIMEZONE
TZID:America/New_York
BEGIN:STANDARD
TZNAME:EST
DTSTART:20231105T020000
TZOFFSETFROM:-0400
TZOFFSETTO:-0500
RDATE:20241103T020000
END:STANDARD
BEGIN:DAYLIGHT
TZNAME:EDT
DTSTART:20230312T020000
TZOFFSETFROM:-0500
TZOFFSETTO:-0400
RDATE:20240310T020000
RDATE:20250309T020000
END:DAYLIGHT
END:VTIMEZONE
BEGIN:VEVENT
UID:f73b6689-81c5-4efd-9536-910c1c1871ff
DTSTAMP:20260425T124457Z
DESCRIPTION:
DTSTART;TZID=America/New_York:20231110T060000
DTEND;TZID=America/New_York:20231110T060001
LOCATION:
SUMMARY:NO WATER IN BUILDING. NO ONSITE CLASSES. VIRTUAL CLASSES ONLY
END:VEVENT
END:VCALENDAR
