BEGIN:VCALENDAR
VERSION:2.0
PRODID:-//rssny.org//NONSGML kigkonsult.se iCalcreator 2.30.10//
CALSCALE:GREGORIAN
METHOD:PUBLISH
UID:b22020a5-4862-4a99-90d0-229bef6a38c8
X-WR-CALDESC:
X-WR-RELCALID:ad8b6d4b5fdddf9f44bb6810d8dfc2e1
X-WR-TIMEZONE:America/New_York
BEGIN:VTIMEZONE
TZID:America/New_York
BEGIN:STANDARD
TZNAME:EST
DTSTART:20231105T020000
TZOFFSETFROM:-0400
TZOFFSETTO:-0500
RDATE:20241103T020000
END:STANDARD
BEGIN:DAYLIGHT
TZNAME:EDT
DTSTART:20230312T020000
TZOFFSETFROM:-0500
TZOFFSETTO:-0400
RDATE:20240310T020000
RDATE:20250309T020000
END:DAYLIGHT
END:VTIMEZONE
BEGIN:VEVENT
UID:4efe4d7c-b27e-4a56-9d62-d9cd66feab0c
DTSTAMP:20260425T130159Z
DESCRIPTION:
DTSTART;TZID=America/New_York:20231110T120000
DTEND;TZID=America/New_York:20231110T130000
LOCATION:
SUMMARY:NO LUNCH TODAY! Lunch (In Center)
END:VEVENT
END:VCALENDAR
