BEGIN:VCALENDAR
VERSION:2.0
PRODID:-//rssny.org//NONSGML kigkonsult.se iCalcreator 2.30.10//
CALSCALE:GREGORIAN
METHOD:PUBLISH
UID:ca755548-cc16-43b2-bfc0-45a59da932e7
X-WR-CALDESC:Interested in acting? Want a chance to read through plays and 
 perform? Then come work with a group led by Jeanie Bowers\, an actress who
  has performed extensively on stage and television.
X-WR-RELCALID:18b2aa6c878c2b5f5d15869f7e74a509
X-WR-TIMEZONE:America/New_York
BEGIN:VTIMEZONE
TZID:America/New_York
BEGIN:STANDARD
TZNAME:EST
DTSTART:20231105T020000
TZOFFSETFROM:-0400
TZOFFSETTO:-0500
RDATE:20241103T020000
END:STANDARD
BEGIN:DAYLIGHT
TZNAME:EDT
DTSTART:20230312T020000
TZOFFSETFROM:-0500
TZOFFSETTO:-0400
RDATE:20240310T020000
RDATE:20250309T020000
END:DAYLIGHT
END:VTIMEZONE
BEGIN:VEVENT
UID:d8f41542-9734-4ab7-8c9c-e25deb54cc23
DTSTAMP:20260425T130342Z
DESCRIPTION:Interested in acting? Want a chance to read through plays and p
 erform? Then come work with a group led by Jeanie Bowers\, an actress who 
 has performed extensively on stage and television.
DTSTART;TZID=America/New_York:20231109T130000
DTEND;TZID=America/New_York:20231109T140000
LOCATION:
SUMMARY:Drama Play Readings with Jeanie Bowers (IN CENTER)
END:VEVENT
END:VCALENDAR
