BEGIN:VCALENDAR
VERSION:2.0
PRODID:-//rssny.org//NONSGML kigkonsult.se iCalcreator 2.30.10//
CALSCALE:GREGORIAN
METHOD:PUBLISH
UID:9dbbe681-5a14-4d12-a7e3-f004f7b8b2e7
X-WR-CALDESC:Boynton Beach Club
X-WR-RELCALID:ba368dadcb10bf8bcee4ff68761e9c71
X-WR-TIMEZONE:America/New_York
BEGIN:VTIMEZONE
TZID:America/New_York
BEGIN:STANDARD
TZNAME:EST
DTSTART:20231105T020000
TZOFFSETFROM:-0400
TZOFFSETTO:-0500
RDATE:20241103T020000
END:STANDARD
BEGIN:DAYLIGHT
TZNAME:EDT
DTSTART:20230312T020000
TZOFFSETFROM:-0500
TZOFFSETTO:-0400
RDATE:20240310T020000
RDATE:20250309T020000
END:DAYLIGHT
END:VTIMEZONE
BEGIN:VEVENT
UID:7ee3dfea-a4ec-4e14-9d4a-18d264eaacf8
DTSTAMP:20260425T125920Z
DESCRIPTION:Boynton Beach Club
DTSTART;TZID=America/New_York:20231108T130000
DTEND;TZID=America/New_York:20231108T150000
LOCATION:
SUMMARY:Movie in Center
END:VEVENT
END:VCALENDAR
