BEGIN:VCALENDAR
VERSION:2.0
PRODID:-//rssny.org//NONSGML kigkonsult.se iCalcreator 2.30.10//
CALSCALE:GREGORIAN
METHOD:PUBLISH
UID:78598a97-ddba-4fc0-b303-24c5624e637f
X-WR-CALDESC:
X-WR-RELCALID:b0cd5adde5fb4cc5b744ff32af39b033
X-WR-TIMEZONE:America/New_York
BEGIN:VTIMEZONE
TZID:America/New_York
BEGIN:STANDARD
TZNAME:EST
DTSTART:20231105T020000
TZOFFSETFROM:-0400
TZOFFSETTO:-0500
RDATE:20241103T020000
END:STANDARD
BEGIN:DAYLIGHT
TZNAME:EDT
DTSTART:20230312T020000
TZOFFSETFROM:-0500
TZOFFSETTO:-0400
RDATE:20240310T020000
RDATE:20250309T020000
END:DAYLIGHT
END:VTIMEZONE
BEGIN:VEVENT
UID:62928dd6-a9d8-4bb1-934c-00a6ce76984f
DTSTAMP:20260425T130226Z
DESCRIPTION:
DTSTART;TZID=America/New_York:20231108T130000
DTEND;TZID=America/New_York:20231108T150000
LOCATION:
SUMMARY:Leisure Games: Mah Jongg (In Center)
END:VEVENT
END:VCALENDAR
