BEGIN:VCALENDAR
VERSION:2.0
PRODID:-//rssny.org//NONSGML kigkonsult.se iCalcreator 2.30.10//
CALSCALE:GREGORIAN
METHOD:PUBLISH
UID:7e60bc53-d06e-4348-b766-bb77fcd442a8
X-WR-CALDESC:
X-WR-RELCALID:266b99e7445132f6aba0e3ccafab4885
X-WR-TIMEZONE:America/New_York
BEGIN:VTIMEZONE
TZID:America/New_York
BEGIN:STANDARD
TZNAME:EST
DTSTART:20231105T020000
TZOFFSETFROM:-0400
TZOFFSETTO:-0500
RDATE:20241103T020000
END:STANDARD
BEGIN:DAYLIGHT
TZNAME:EDT
DTSTART:20230312T020000
TZOFFSETFROM:-0500
TZOFFSETTO:-0400
RDATE:20240310T020000
RDATE:20250309T020000
END:DAYLIGHT
END:VTIMEZONE
BEGIN:VEVENT
UID:8d0aba6c-673c-44ae-a59c-c1b280b4419e
DTSTAMP:20260425T130112Z
DESCRIPTION:
DTSTART;TZID=America/New_York:20231108T120000
DTEND;TZID=America/New_York:20231108T130000
LOCATION:
SUMMARY:Veteran's Day Lunch (In Center)
END:VEVENT
END:VCALENDAR
