BEGIN:VCALENDAR
VERSION:2.0
PRODID:-//rssny.org//NONSGML kigkonsult.se iCalcreator 2.30.10//
CALSCALE:GREGORIAN
METHOD:PUBLISH
UID:70a7056d-854f-4077-8f91-a4de2bc1804e
X-WR-CALDESC:Click Here to Register - https://rssny.org/class-forms/concert
 s-in-motion.html
X-WR-RELCALID:8276f8bf4a2d50fc05cd1e1a70c07972
X-WR-TIMEZONE:America/New_York
BEGIN:VTIMEZONE
TZID:America/New_York
BEGIN:STANDARD
TZNAME:EST
DTSTART:20221106T020000
TZOFFSETFROM:-0400
TZOFFSETTO:-0500
RDATE:20231105T020000
RDATE:20241103T020000
END:STANDARD
BEGIN:DAYLIGHT
TZNAME:EDT
DTSTART:20230312T020000
TZOFFSETFROM:-0500
TZOFFSETTO:-0400
RDATE:20240310T020000
RDATE:20250309T020000
END:DAYLIGHT
END:VTIMEZONE
BEGIN:VEVENT
UID:ddc8520a-010a-4269-97d2-9f1e5608e3e4
DTSTAMP:20260425T130246Z
DESCRIPTION:Click Here to Register - https://rssny.org/class-forms/concerts
 -in-motion.html
DTSTART;TZID=America/New_York:20231106T120000
DTEND;TZID=America/New_York:20231106T130000
LOCATION:
SUMMARY:Concerts in Motion: Meditative Mondays (Not an RSS Class)
END:VEVENT
END:VCALENDAR
