BEGIN:VCALENDAR
VERSION:2.0
PRODID:-//rssny.org//NONSGML kigkonsult.se iCalcreator 2.30.10//
CALSCALE:GREGORIAN
METHOD:PUBLISH
UID:868ce8e1-f097-4508-b8d3-317a2fce7652
X-WR-CALDESC:
X-WR-RELCALID:8e04004f4b3de87e2424bfdce9f07e45
X-WR-TIMEZONE:America/New_York
BEGIN:VTIMEZONE
TZID:America/New_York
BEGIN:STANDARD
TZNAME:EST
DTSTART:20221106T020000
TZOFFSETFROM:-0400
TZOFFSETTO:-0500
RDATE:20231105T020000
RDATE:20241103T020000
END:STANDARD
BEGIN:DAYLIGHT
TZNAME:EDT
DTSTART:20230312T020000
TZOFFSETFROM:-0500
TZOFFSETTO:-0400
RDATE:20240310T020000
RDATE:20250309T020000
END:DAYLIGHT
END:VTIMEZONE
BEGIN:VEVENT
UID:354b7efc-7fe1-4c58-81e3-9e139ccb64ce
DTSTAMP:20260425T144257Z
DESCRIPTION:
DTSTART;TZID=America/New_York:20231027T130000
DTEND;TZID=America/New_York:20231027T140000
LOCATION:
SUMMARY:Advisory Council - Invitation Only  (IN CENTER)
END:VEVENT
END:VCALENDAR
