BEGIN:VCALENDAR
VERSION:2.0
PRODID:-//rssny.org//NONSGML kigkonsult.se iCalcreator 2.30.10//
CALSCALE:GREGORIAN
METHOD:PUBLISH
UID:c9cb3e40-b8c9-4077-8489-f5e0545b2af0
X-WR-CALDESC:
X-WR-RELCALID:991baf6d77e11656992949fc6a3b9bcc
X-WR-TIMEZONE:America/New_York
BEGIN:VTIMEZONE
TZID:America/New_York
BEGIN:STANDARD
TZNAME:EST
DTSTART:20221106T020000
TZOFFSETFROM:-0400
TZOFFSETTO:-0500
RDATE:20231105T020000
RDATE:20241103T020000
END:STANDARD
BEGIN:DAYLIGHT
TZNAME:EDT
DTSTART:20230312T020000
TZOFFSETFROM:-0500
TZOFFSETTO:-0400
RDATE:20240310T020000
RDATE:20250309T020000
END:DAYLIGHT
END:VTIMEZONE
BEGIN:VEVENT
UID:6cc6633a-a898-4014-bde5-aa5c9a00f4f4
DTSTAMP:20260425T144139Z
DESCRIPTION:
DTSTART;TZID=America/New_York:20231026T130000
DTEND;TZID=America/New_York:20231026T140000
LOCATION:No Registration Required
SUMMARY:IN PERSON: Crafting with Recyclables with Susan Guzman
END:VEVENT
END:VCALENDAR
