BEGIN:VCALENDAR
VERSION:2.0
PRODID:-//rssny.org//NONSGML kigkonsult.se iCalcreator 2.30.10//
CALSCALE:GREGORIAN
METHOD:PUBLISH
UID:e40fea2e-5a85-43d1-8572-10ac31774b88
X-WR-CALDESC:Click Here to Register - https://rssny.org/class-forms/concert
 s-in-motion.html
X-WR-RELCALID:1a0985582ec0417c1c53cbfb5d3fb2f3
X-WR-TIMEZONE:America/New_York
BEGIN:VTIMEZONE
TZID:America/New_York
BEGIN:STANDARD
TZNAME:EST
DTSTART:20221106T020000
TZOFFSETFROM:-0400
TZOFFSETTO:-0500
RDATE:20231105T020000
RDATE:20241103T020000
END:STANDARD
BEGIN:DAYLIGHT
TZNAME:EDT
DTSTART:20230312T020000
TZOFFSETFROM:-0500
TZOFFSETTO:-0400
RDATE:20240310T020000
RDATE:20250309T020000
END:DAYLIGHT
END:VTIMEZONE
BEGIN:VEVENT
UID:b95b6ab1-9a6e-4614-832f-33f58928e9e1
DTSTAMP:20260425T144018Z
DESCRIPTION:Click Here to Register - https://rssny.org/class-forms/concerts
 -in-motion.html
DTSTART;TZID=America/New_York:20231023T120000
DTEND;TZID=America/New_York:20231023T130000
LOCATION:
SUMMARY:Concerts in Motion: Meditative Mondays (Not an RSS Class)
END:VEVENT
END:VCALENDAR
