BEGIN:VCALENDAR
VERSION:2.0
PRODID:-//rssny.org//NONSGML kigkonsult.se iCalcreator 2.30.10//
CALSCALE:GREGORIAN
METHOD:PUBLISH
UID:64f9f2e6-882c-4e9e-a45e-1a278d9afb8b
X-WR-CALDESC:TO REGISTER: Call 718.884.5900
X-WR-RELCALID:e0647f599fa06146eeafc3ffe5b8dfd3
X-WR-TIMEZONE:America/New_York
BEGIN:VTIMEZONE
TZID:America/New_York
BEGIN:STANDARD
TZNAME:EST
DTSTART:20221106T020000
TZOFFSETFROM:-0400
TZOFFSETTO:-0500
RDATE:20231105T020000
RDATE:20241103T020000
END:STANDARD
BEGIN:DAYLIGHT
TZNAME:EDT
DTSTART:20230312T020000
TZOFFSETFROM:-0500
TZOFFSETTO:-0400
RDATE:20240310T020000
RDATE:20250309T020000
END:DAYLIGHT
END:VTIMEZONE
BEGIN:VEVENT
UID:86634769-4377-4a86-940a-e616ae132841
DTSTAMP:20260425T144608Z
DESCRIPTION:TO REGISTER: Call 718.884.5900
DTSTART;TZID=America/New_York:20231019T130000
DTEND;TZID=America/New_York:20231019T140000
LOCATION:TO REGISTER: Call 718.884.5900
SUMMARY:IN PERSON: Crafting with Recyclables with Susan Guzman
END:VEVENT
END:VCALENDAR
