BEGIN:VCALENDAR
VERSION:2.0
PRODID:-//rssny.org//NONSGML kigkonsult.se iCalcreator 2.30.10//
CALSCALE:GREGORIAN
METHOD:PUBLISH
UID:fa29e4f5-d39a-46f8-a401-5e4cd32efa84
X-WR-CALDESC:TO REGISTER: https://rssny.org/trivia.html   Register ONE TIME
  ONLY\n\n\nCome and enjoy trivia and brain games with Maritza.\n\nNOTES:\n
 *  This class is weekly. We will let you know if it is not happening.\n* Y
 ou only need to register ONCE for this class. You will be sent links weekl
 y.\n*  You MUST register for the class. Please do not forward the link.
X-WR-RELCALID:ab42e4cff548b5fcc1e4a75b0013e04a
X-WR-TIMEZONE:America/New_York
BEGIN:VTIMEZONE
TZID:America/New_York
BEGIN:STANDARD
TZNAME:EST
DTSTART:20221106T020000
TZOFFSETFROM:-0400
TZOFFSETTO:-0500
RDATE:20231105T020000
RDATE:20241103T020000
END:STANDARD
BEGIN:DAYLIGHT
TZNAME:EDT
DTSTART:20230312T020000
TZOFFSETFROM:-0500
TZOFFSETTO:-0400
RDATE:20240310T020000
RDATE:20250309T020000
END:DAYLIGHT
END:VTIMEZONE
BEGIN:VEVENT
UID:37f6f351-b803-473a-bdfd-c25a3a283473
DTSTAMP:20260425T143852Z
DESCRIPTION:TO REGISTER: https://rssny.org/trivia.html   Register ONE TIME 
 ONLY\n\n\nCome and enjoy trivia and brain games with Maritza.\n\nNOTES:\n*
   This class is weekly. We will let you know if it is not happening.\n* Yo
 u only need to register ONCE for this class. You will be sent links weekly
 .\n*  You MUST register for the class. Please do not forward the link.
DTSTART;TZID=America/New_York:20231017T110000
DTEND;TZID=America/New_York:20231017T120000
LOCATION:https://rssny.org/trivia.html
SUMMARY:Brain Games with Maritza (Online & In Person)
END:VEVENT
END:VCALENDAR
