BEGIN:VCALENDAR
VERSION:2.0
PRODID:-//rssny.org//NONSGML kigkonsult.se iCalcreator 2.30.10//
CALSCALE:GREGORIAN
METHOD:PUBLISH
UID:2931bdce-a580-465f-9335-f8dd39dd0a36
X-WR-CALDESC:Click Here to Register - https://rssny.org/class-forms/concert
 s-in-motion.html
X-WR-RELCALID:e0ce67ee0fad2826f06eca147e47fe1c
X-WR-TIMEZONE:America/New_York
BEGIN:VTIMEZONE
TZID:America/New_York
BEGIN:STANDARD
TZNAME:EST
DTSTART:20221106T020000
TZOFFSETFROM:-0400
TZOFFSETTO:-0500
RDATE:20231105T020000
RDATE:20241103T020000
END:STANDARD
BEGIN:DAYLIGHT
TZNAME:EDT
DTSTART:20230312T020000
TZOFFSETFROM:-0500
TZOFFSETTO:-0400
RDATE:20240310T020000
RDATE:20250309T020000
END:DAYLIGHT
END:VTIMEZONE
BEGIN:VEVENT
UID:75e11295-1398-4a5d-b6c9-b8fbef8c8ff2
DTSTAMP:20260425T144033Z
DESCRIPTION:Click Here to Register - https://rssny.org/class-forms/concerts
 -in-motion.html
DTSTART;TZID=America/New_York:20231016T120000
DTEND;TZID=America/New_York:20231016T130000
LOCATION:
SUMMARY:Concerts in Motion: Meditative Mondays (Not an RSS Class)
END:VEVENT
END:VCALENDAR
