BEGIN:VCALENDAR
VERSION:2.0
PRODID:-//rssny.org//NONSGML kigkonsult.se iCalcreator 2.30.10//
CALSCALE:GREGORIAN
METHOD:PUBLISH
UID:4ba5f402-ecf2-4ecc-ac90-c074e8557804
X-WR-CALDESC:Interested in acting? Want a chance to read through plays and 
 perform? Then come work with a group led by Jeanie Bowers\, an actress who
  has performed extensively on stage and television.
X-WR-RELCALID:6051a25e3841152774e00bd9f4a8e090
X-WR-TIMEZONE:America/New_York
BEGIN:VTIMEZONE
TZID:America/New_York
BEGIN:STANDARD
TZNAME:EST
DTSTART:20221106T020000
TZOFFSETFROM:-0400
TZOFFSETTO:-0500
RDATE:20231105T020000
RDATE:20241103T020000
END:STANDARD
BEGIN:DAYLIGHT
TZNAME:EDT
DTSTART:20230312T020000
TZOFFSETFROM:-0500
TZOFFSETTO:-0400
RDATE:20240310T020000
RDATE:20250309T020000
END:DAYLIGHT
END:VTIMEZONE
BEGIN:VEVENT
UID:d5e291ef-a98e-402a-a82a-efa8fafca88e
DTSTAMP:20260425T143627Z
DESCRIPTION:Interested in acting? Want a chance to read through plays and p
 erform? Then come work with a group led by Jeanie Bowers\, an actress who 
 has performed extensively on stage and television.
DTSTART;TZID=America/New_York:20231012T130000
DTEND;TZID=America/New_York:20231012T140000
LOCATION:
SUMMARY:Drama Play Readings with Jeanie Bowers
END:VEVENT
END:VCALENDAR
