BEGIN:VCALENDAR
VERSION:2.0
PRODID:-//rssny.org//NONSGML kigkonsult.se iCalcreator 2.30.10//
CALSCALE:GREGORIAN
METHOD:PUBLISH
UID:11f75b24-09f0-4890-ba96-caa0003f1153
X-WR-CALDESC:
X-WR-RELCALID:5c8c51cac2ddc75d38d6fa94e360f7ac
X-WR-TIMEZONE:America/New_York
BEGIN:VTIMEZONE
TZID:America/New_York
BEGIN:STANDARD
TZNAME:EST
DTSTART:20221106T020000
TZOFFSETFROM:-0400
TZOFFSETTO:-0500
RDATE:20231105T020000
RDATE:20241103T020000
END:STANDARD
BEGIN:DAYLIGHT
TZNAME:EDT
DTSTART:20230312T020000
TZOFFSETFROM:-0500
TZOFFSETTO:-0400
RDATE:20240310T020000
RDATE:20250309T020000
END:DAYLIGHT
END:VTIMEZONE
BEGIN:VEVENT
UID:60167996-537c-4648-b1b6-fa0f164065c1
DTSTAMP:20260425T143017Z
DESCRIPTION:
DTSTART;TZID=America/New_York:20231009T130000
DTEND;TZID=America/New_York:20231009T140000
LOCATION:
SUMMARY:Current Events with Tim (In Center)
END:VEVENT
END:VCALENDAR
