BEGIN:VCALENDAR
VERSION:2.0
PRODID:-//rssny.org//NONSGML kigkonsult.se iCalcreator 2.30.10//
CALSCALE:GREGORIAN
METHOD:PUBLISH
UID:da074a62-ab8d-41fa-9aae-62c57fa7296d
X-WR-CALDESC:
X-WR-RELCALID:b28254971250b7a6f01aaf3d62e34b9e
X-WR-TIMEZONE:America/New_York
BEGIN:VTIMEZONE
TZID:America/New_York
BEGIN:STANDARD
TZNAME:EST
DTSTART:20221106T020000
TZOFFSETFROM:-0400
TZOFFSETTO:-0500
RDATE:20231105T020000
RDATE:20241103T020000
END:STANDARD
BEGIN:DAYLIGHT
TZNAME:EDT
DTSTART:20230312T020000
TZOFFSETFROM:-0500
TZOFFSETTO:-0400
RDATE:20240310T020000
RDATE:20250309T020000
END:DAYLIGHT
END:VTIMEZONE
BEGIN:VEVENT
UID:91b4259b-26f6-4f52-b2cb-4f95d1681bb9
DTSTAMP:20260425T144133Z
DESCRIPTION:
DTSTART;TZID=America/New_York:20231005T130000
DTEND;TZID=America/New_York:20231005T140000
LOCATION:No Registration Required
SUMMARY:IN PERSON: Crafting with Recyclables with Susan Guzman
END:VEVENT
END:VCALENDAR
