BEGIN:VCALENDAR
VERSION:2.0
PRODID:-//rssny.org//NONSGML kigkonsult.se iCalcreator 2.30.10//
CALSCALE:GREGORIAN
METHOD:PUBLISH
UID:cd6cf011-579b-4d75-84a2-8aab414260b6
X-WR-CALDESC:This is an evidence-based class. Prior registration was needed
 .\n\nThe class is no longer open to registrants.
X-WR-RELCALID:bd295f56206bf1654a780a349938fc70
X-WR-TIMEZONE:America/New_York
BEGIN:VTIMEZONE
TZID:America/New_York
BEGIN:STANDARD
TZNAME:EST
DTSTART:20221106T020000
TZOFFSETFROM:-0400
TZOFFSETTO:-0500
RDATE:20231105T020000
RDATE:20241103T020000
END:STANDARD
BEGIN:DAYLIGHT
TZNAME:EDT
DTSTART:20230312T020000
TZOFFSETFROM:-0500
TZOFFSETTO:-0400
RDATE:20240310T020000
RDATE:20250309T020000
END:DAYLIGHT
END:VTIMEZONE
BEGIN:VEVENT
UID:3104d3fc-584b-4697-bd54-6947bab0d93e
DTSTAMP:20260425T160351Z
DESCRIPTION:This is an evidence-based class. Prior registration was needed.
 \n\nThe class is no longer open to registrants.
DTSTART;TZID=America/New_York:20230928T130000
DTEND;TZID=America/New_York:20230928T140000
LOCATION:
SUMMARY:SAIL WITH PAULA (ONLINE)
END:VEVENT
END:VCALENDAR
